BEGIN:VCALENDAR
VERSION:2.0
PRODID:-//Fundación Conversación - ECPv6.14.1//NONSGML v1.0//EN
CALSCALE:GREGORIAN
METHOD:PUBLISH
X-ORIGINAL-URL:https://fundacionconversacion.com
X-WR-CALDESC:Eventos para Fundación Conversación
REFRESH-INTERVAL;VALUE=DURATION:PT1H
X-Robots-Tag:noindex
X-PUBLISHED-TTL:PT1H
BEGIN:VTIMEZONE
TZID:Europe/Madrid
BEGIN:DAYLIGHT
TZOFFSETFROM:+0100
TZOFFSETTO:+0200
TZNAME:CEST
DTSTART:20200329T010000
END:DAYLIGHT
BEGIN:STANDARD
TZOFFSETFROM:+0200
TZOFFSETTO:+0100
TZNAME:CET
DTSTART:20201025T010000
END:STANDARD
END:VTIMEZONE
BEGIN:VEVENT
DTSTART;TZID=Europe/Madrid:20201031T100000
DTEND;TZID=Europe/Madrid:20201031T143000
DTSTAMP:20260422T164651
CREATED:20201029T154523Z
LAST-MODIFIED:20201029T154523Z
UID:1181-1604138400-1604154600@fundacionconversacion.com
SUMMARY:Curso de Formación Política
DESCRIPTION:Un nuevo encuentro de nuestro Curso de Formación Política\, esta vez con la presencia del Dr. Carlos de Ayala\, catedrático de la UAM experto en Historia Medieval. Estaremos analizando la obra de Remi Brague\, «En medio de la Edad Media».
URL:https://fundacionconversacion.com/evento/curso-de-formacion-politica/
LOCATION:Fundación Conversación\, calle Ferraz 35
ATTACH;FMTTYPE=image/png:https://fundacionconversacion.com/wp-content/uploads/2019/09/orionthemes-placeholder-image.png
END:VEVENT
END:VCALENDAR