BEGIN:VCALENDAR
VERSION:2.0
PRODID:-//Fundación Conversación - ECPv6.14.1//NONSGML v1.0//EN
CALSCALE:GREGORIAN
METHOD:PUBLISH
X-ORIGINAL-URL:https://fundacionconversacion.com
X-WR-CALDESC:Eventos para Fundación Conversación
REFRESH-INTERVAL;VALUE=DURATION:PT1H
X-Robots-Tag:noindex
X-PUBLISHED-TTL:PT1H
BEGIN:VTIMEZONE
TZID:Europe/Madrid
BEGIN:DAYLIGHT
TZOFFSETFROM:+0100
TZOFFSETTO:+0200
TZNAME:CEST
DTSTART:20210328T010000
END:DAYLIGHT
BEGIN:STANDARD
TZOFFSETFROM:+0200
TZOFFSETTO:+0100
TZNAME:CET
DTSTART:20211031T010000
END:STANDARD
END:VTIMEZONE
BEGIN:VEVENT
DTSTART;TZID=Europe/Madrid:20210206T100000
DTEND;TZID=Europe/Madrid:20210206T120000
DTSTAMP:20260420T105220
CREATED:20210112T173621Z
LAST-MODIFIED:20210112T174211Z
UID:1400-1612605600-1612612800@fundacionconversacion.com
SUMMARY:Curso de Formación Política. Clase 1 Módulo IV
DESCRIPTION:Primera sesión: 6 de febrero “España\, inspiradora de modernidad: el Imperio y América” \nPonente: María Saavedra Inaraja
URL:https://fundacionconversacion.com/evento/curso-de-formacion-politica-clase-1-modulo-iv/
LOCATION:Fundación Conversación\, calle Ferraz 35
ATTACH;FMTTYPE=image/png:https://fundacionconversacion.com/wp-content/uploads/2019/09/orionthemes-placeholder-image.png
END:VEVENT
END:VCALENDAR